BEGIN:VCALENDAR
VERSION:2.0
PRODID:-//Positive Change For Schools - ECPv6.13.2.1//NONSGML v1.0//EN
CALSCALE:GREGORIAN
METHOD:PUBLISH
X-WR-CALNAME:Positive Change For Schools
X-ORIGINAL-URL:https://schools.change-pd.com
X-WR-CALDESC:Events for Positive Change For Schools
REFRESH-INTERVAL;VALUE=DURATION:PT1H
X-Robots-Tag:noindex
X-PUBLISHED-TTL:PT1H
BEGIN:VTIMEZONE
TZID:UTC
BEGIN:STANDARD
TZOFFSETFROM:+0000
TZOFFSETTO:+0000
TZNAME:UTC
DTSTART:20240101T000000
END:STANDARD
END:VTIMEZONE
BEGIN:VEVENT
DTSTART;VALUE=DATE:20241119
DTEND;VALUE=DATE:20241120
DTSTAMP:20260423T103831
CREATED:20241023T025840Z
LAST-MODIFIED:20241023T031749Z
UID:1835-1731974400-1732060799@schools.change-pd.com
SUMMARY:Thanksgiving Baskets and Provisions
DESCRIPTION:Positive Change Social Services will be working with local relief organizations during the holiday season to provide holiday food provisions for families in distress.
URL:https://schools.change-pd.com/event/thanksgiving-baskets-and-provisions/
CATEGORIES:Events List View,Our Recent Events,Recent Events V2
ATTACH;FMTTYPE=image/jpeg:https://schools.change-pd.com/wp-content/uploads/2021/07/case-18.jpg
END:VEVENT
BEGIN:VEVENT
DTSTART;VALUE=DATE:20241030
DTEND;VALUE=DATE:20241031
DTSTAMP:20260423T103831
CREATED:20241023T025357Z
LAST-MODIFIED:20241023T031737Z
UID:1833-1730246400-1730332799@schools.change-pd.com
SUMMARY:Blessings Christian Counseling
DESCRIPTION:Blessings Christian Dating Counselors are Relationship Champions!\nBlessings Christian Dating Counselors work with Positive Change Social Services teaching dating\, engaged\, or married couples in churches\, counseling centers\, and communities. They help couples identify their relationship strengths\, gain understanding about the underlying dynamics that influence their communication\, and then help couples develop skills to improve their growth areas. Counselors work with couples in facilitator/couple relationships\, small groups\, retreats\, marriage mentor programs\, church-wide formats\, and many other settings.
URL:https://schools.change-pd.com/event/blessings-christian-counseling/
CATEGORIES:Events List View,Our Recent Events,Recent Events V2
ATTACH;FMTTYPE=image/jpeg:https://schools.change-pd.com/wp-content/uploads/2021/07/about-1.jpg
END:VEVENT
END:VCALENDAR